BEGIN:VCALENDAR
VERSION:2.0
PRODID:-//ChamberMaster//Event Calendar 2.0//EN
METHOD:PUBLISH
X-PUBLISHED-TTL:P3D
REFRESH-INTERVAL:P3D
CALSCALE:GREGORIAN
BEGIN:VEVENT
DTSTART:20260513T220000Z
DTEND:20260514T003000Z
X-MICROSOFT-CDO-ALLDAYEVENT:FALSE
SUMMARY:Multi-Connections After Hours Speed Networkring & Business EXPO
DESCRIPTION:Join the Darien Business Alliance and\, Hinsdale\, Bolingbrook\, Willowbrook - Burr Ridge\, Elmhurst\, and Westmont Chambers for a Speed Networking & Business EXPO!
X-ALT-DESC;FMTTYPE=text/html:Join the Darien Business Alliance and\, Hinsdale\, Bolingbrook\, Willowbrook - Burr Ridge\, Elmhurst\, and Westmont Chambers for a Speed Networking &amp\; Business EXPO!
LOCATION:Carriage Greens Country Club 8700 Carriage Greens Drive Darien\, IL.
UID:e.9672.42
SEQUENCE:3
DTSTAMP:20260422T042919Z
URL:https://business.darien.il.us/events/details/multi-connections-after-hours-speed-networkring-business-expo-42
END:VEVENT

END:VCALENDAR
