BEGIN:VCALENDAR
VERSION:2.0
PRODID:-//ChamberMaster//Event Calendar 2.0//EN
METHOD:PUBLISH
X-PUBLISHED-TTL:P3D
REFRESH-INTERVAL:P3D
CALSCALE:GREGORIAN
BEGIN:VEVENT
DTSTART:20260428T230000Z
DTEND:20260429T030000Z
X-MICROSOFT-CDO-ALLDAYEVENT:FALSE
SUMMARY:Casino Night Presented by the Rotary Club of Darien
DESCRIPTION:Join the Rotary Club of Darien as they bring Las Vegas to you at their Annual Casino Night fundraiser!
X-ALT-DESC;FMTTYPE=text/html:Join the Rotary Club of Darien as they bring Las Vegas to you at their Annual Casino Night fundraiser!
LOCATION:Ashton Place Banquets 341 75th St. Willowbrook\, IL. 60527
UID:e.9672.38
SEQUENCE:3
DTSTAMP:20260420T125118Z
URL:https://business.darien.il.us/events/details/casino-night-presented-by-the-rotary-club-of-darien-38
END:VEVENT

END:VCALENDAR
